BEGIN:VCALENDAR
PRODID:-//eluceo/ical//2.0/EN
VERSION:2.0
CALSCALE:GREGORIAN
BEGIN:VEVENT
UID:cdc29cf1d022bd961eab7a2daf889708
DTSTAMP:20260421T203208Z
SUMMARY:Antisemitism in the Heartland-Hubert Humphrey's Fight for Civil Rig
 hts
DESCRIPTION:Jewish Federation in the Heart of New Jersey\nEvents\nhttps://j
 ewishheartnj.org/events/antisemitism-in-the-heartland-hubert-humphreys-fig
 ht-for-civil-rights\n\nMayor of Minneapolis in the mid-1940s\, Hubert Hump
 hrey transformed it from being nationally notorious for its antisemitism a
 nd anti-Black racism to being nationally acclaimed for its concrete progre
 ss on civil rights. How Humphrey accomplished what he did is both dramatic
  as a part of history and instructive amid the present upsurge in antisemi
 tism. Professor Samuel G. Freedman\, Columbia University\, will discuss hi
 s new book\, which examines this obscure chapter of Humphrey’s life\, fo
 retelli...
DTSTART;TZID=America/New_York:20231016T193000
DTEND;TZID=America/New_York:20231016T210000
END:VEVENT
END:VCALENDAR
