BEGIN:VCALENDAR
PRODID:-//eluceo/ical//2.0/EN
VERSION:2.0
CALSCALE:GREGORIAN
BEGIN:VEVENT
UID:6402e442b34eb95961278ace47718d2d
DTSTAMP:20260422T155722Z
SUMMARY:An Evening of Prayer and Reflection in Solidarity with Israel
DESCRIPTION:Jewish Federation in the Heart of New Jersey\nEvents\nhttps://j
 ewishheartnj.org/events/an-evening-of-prayer-and-reflection-in-solidarity-
 with-israel\n\nThis evening is sponsored by Temple Emanu-El of Edison and 
 Congregation Neve Shalom and hosted by the JCC of Middlesex County. Metuc
 hen Edison Interfaith Clergy Association and the Metuchen Human Rights Com
 mission are also joining the event.
DTSTART;TZID=America/New_York:20231010T190000
DTEND;TZID=America/New_York:20231010T200000
END:VEVENT
END:VCALENDAR
