BEGIN:VCALENDAR
PRODID:-//eluceo/ical//2.0/EN
VERSION:2.0
CALSCALE:GREGORIAN
BEGIN:VEVENT
UID:70f59972c4a20589ffa981d9721e38fd
DTSTAMP:20260425T201654Z
SUMMARY:An Afternoon with Jason Robert Brown
DESCRIPTION:Jewish Federation in the Heart of New Jersey\nEvents\nhttps://j
 ewishheartnj.org/events/an-afternoon-with-jason-robert-brown-1664288409\n\
 nJason is the ultimate multi-hyphenate – an equally skilled composer\, l
 yricist\, conductor\, arranger\, orchestrator\, director and performer –
  best known for his dazzling scores to several of the most renowned musica
 ls of his generation\, including the generation-defining The Last Five Yea
 rs\, his debut song cycle Songs for a New World\, and the Broadway musical
 s Parade and The Bridges of Madison County\, for which he won three Tony A
 wards. Two of his Off-Broadway musicals\, The Last Five Years...
DTSTART;TZID=America/New_York:20221016T150000
DTEND;TZID=America/New_York:20221016T163000
END:VEVENT
END:VCALENDAR
