BEGIN:VCALENDAR
PRODID:-//eluceo/ical//2.0/EN
VERSION:2.0
CALSCALE:GREGORIAN
BEGIN:VEVENT
UID:65512345c42d4df2516e62516023b196
DTSTAMP:20260424T010625Z
SUMMARY:An Afternoon with David Levy
DESCRIPTION:Jewish Federation in the Heart of New Jersey\nEvents\nhttps://j
 ewishheartnj.org/events/an-afternoon-with-david-levy-1673311973\n\n–The 
 Jewish Heritage Museum of Monmouth\nCounty presents An Afternoon with Dav
 id Levy on Sunday\, January 15 th 2023 at 2:00 PM.\nAdmission is $5 for Mu
 seum members\, $7 for non-members.\nDavid Levy is joining our members at t
 he Museum to talk about his passions\,\nphilanthropic opportunities\, and 
 the liberty art gives to the creative mind. David Levy’s\npresentation w
 ill focus upon the observation\, analysis\, and evaluation of his art: an 
 art that has\nevolved over fifty years: from Optical...
DTSTART;TZID=America/New_York:20230115T140000
DTEND;TZID=America/New_York:20230115T160000
END:VEVENT
END:VCALENDAR
