BEGIN:VCALENDAR
PRODID:-//eluceo/ical//2.0/EN
VERSION:2.0
CALSCALE:GREGORIAN
BEGIN:VEVENT
UID:2479cd304313128a69877352ebf5f390
DTSTAMP:20260426T014841Z
SUMMARY:American Shtetl: The Making of Kiryas Joel
DESCRIPTION:Jewish Federation in the Heart of New Jersey\nEvents\nhttps://j
 ewishheartnj.org/events/american-shtetl-the-making-of-kiryas-joel-16590240
 87\n\nSettled in the mid-1970s by a small contingent of Hasidic families\,
  Kiryas Joel is an American town with few parallels in Jewish history—bu
 t many precedents among religious communities in the United States. Profes
 sors Nomi M. Stolzenberg and David N. Myers will discuss their new book\, 
 which tells the story of how this group of pious\, Yiddish-speaking Jews h
 as grown to become a thriving insular enclave and a powerful local governm
 ent in upstate New York. While rejecting the norms of mainstre...
DTSTART;TZID=America/New_York:20221020T190000
DTEND;TZID=America/New_York:20221020T200000
END:VEVENT
END:VCALENDAR
