BEGIN:VCALENDAR
PRODID:-//eluceo/ical//2.0/EN
VERSION:2.0
CALSCALE:GREGORIAN
BEGIN:VEVENT
UID:0c4792bea76f22e0bbd94cf230dc5607
DTSTAMP:20260421T162712Z
SUMMARY:Adult Ed Welcomes Cantor Jessica Lynn Fox: Lunch & Learn
DESCRIPTION:Jewish Federation in the Heart of New Jersey\nEvents\nhttps://j
 ewishheartnj.org/events/adult-ed-welcomes-cantor-jessica-lynn-fox-lunch--l
 earn-1696557147\n\nThis interactive program encourages the listeners to re
 flect on their own memories as they hear such Jewish clergy as Yossele Ros
 enblatt\, Moshe Koussvetzky and others.
DTSTART;TZID=America/New_York:20231015T123000
DTEND;TZID=America/New_York:20231015T143000
END:VEVENT
END:VCALENDAR
