BEGIN:VCALENDAR
PRODID:-//eluceo/ical//2.0/EN
VERSION:2.0
CALSCALE:GREGORIAN
BEGIN:VEVENT
UID:1c6b0c592786033ee8d708ecd696ccf4
DTSTAMP:20260423T013800Z
SUMMARY:"A Virtual Tour of Yad Vashem"
DESCRIPTION:Jewish Federation in the Heart of New Jersey\nEvents\nhttps://j
 ewishheartnj.org/events/a-virtual-tour-of-yad-vashem-1680716997\n\nJoin us
  for a meaningful afternoon touring Yad Vashem.  In memory of those we los
 t in the Shoah\, the program will be followed by a brief prayer service fo
 llowed by a memorial prayer.\n\nThe program will be moderated by Yohal Coh
 en.\n\nThis is a free Zoom event and you can register at ebjc.org/travel-s
 eries
DTSTART;TZID=America/New_York:20230416T120000
DTEND;TZID=America/New_York:20230416T130000
END:VEVENT
END:VCALENDAR
