BEGIN:VCALENDAR
PRODID:-//eluceo/ical//2.0/EN
VERSION:2.0
CALSCALE:GREGORIAN
BEGIN:VEVENT
UID:930b0bd22b66359389ed76eb0abd26a2
DTSTAMP:20260425T014204Z
SUMMARY:A Testament to Courage (International Holocaust Remembrance Day)
DESCRIPTION:Jewish Federation in the Heart of New Jersey\nEvents\nhttps://j
 ewishheartnj.org/events/a-testament-to-courage-international-holocaust-rem
 embrance-day-1672851714\n\nIn May 1945\, as World War II ended\, an all-Bl
 ack U.S. Army truck company led by Lieutenant John L. Withers rushed emerg
 ency supplies to an unknown German town. Longtime victims of the harsh rac
 ial abuses of the Jim Crow-era\, these soldiers were horrified by what the
 y found when the “town” turned out to be the Dachau concentration camp
 . Days later\, two destitute young Jews\, former Dachau inmates\, appeared
  at their encampment and pleaded for help. Housing non-military personnel 
 was...
DTSTART;TZID=America/New_York:20230126T190000
DTEND;TZID=America/New_York:20230126T203000
END:VEVENT
END:VCALENDAR
