BEGIN:VCALENDAR
PRODID:-//eluceo/ical//2.0/EN
VERSION:2.0
CALSCALE:GREGORIAN
BEGIN:VEVENT
UID:4295e2c40fa4ea9280a5f652c5a9f8f6
DTSTAMP:20260423T151144Z
SUMMARY:"A Stranger to My Brothers": Who and What Were Apostates in Ancient
  Judaism
DESCRIPTION:Jewish Federation in the Heart of New Jersey\nEvents\nhttps://j
 ewishheartnj.org/events/a-stranger-to-my-brothers-who-and-what-were-aposta
 tes-in-ancient-judaism-1671564554\n\nTaught by Bildner visiting scholar Av
 raham Yoskovich\, this three-part online mini-course traces the footsteps 
 of the people who are called "apostates" in Rabbinic and other Jewish lite
 rature. Who were these people? What did they do to "earn" this title\, and
  what was its meaning? In fact\, did they actually exist? The course will 
 examine sources from the first millennium until the year 1000 that shed li
 ght on the reality and mythology of “apostates.” It will also explore 
 the communal effect...
DTSTART;TZID=America/New_York:20230125T190000
DTEND;TZID=America/New_York:20230125T200000
END:VEVENT
END:VCALENDAR
