BEGIN:VCALENDAR
PRODID:-//eluceo/ical//2.0/EN
VERSION:2.0
CALSCALE:GREGORIAN
BEGIN:VEVENT
UID:bc92b8c7058139eae3666fd60fc7bce9
DTSTAMP:20260422T101209Z
SUMMARY:A Night of Unity: From Generation to Generation
DESCRIPTION:Jewish Federation in the Heart of New Jersey\nEvents\nhttps://j
 ewishheartnj.org/events/a-night-of-unity-from-generation-to-generation-170
 8022689\n\nFeaturing Alon Ben-Gurion\, Grandson of David Ben-Gurion\nAlon 
 will blend personal recollections with historical accounts\, unveiling his
  grandfather David Ben-Gurion's pivotal role in Israel's growth\, and expl
 ore the deep implications of October 7\, offering valuable insights for ou
 r community.\n\nNo Cost to Attend\n\n*Pre-reception is exclusive for partn
 ers giving $1\,000 or more to the current campaign.\n\nFor security purpos
 es preregistration is required for all guests. Attendees will be...
DTSTART;TZID=America/New_York:20240515T193000
DTEND;TZID=America/New_York:20240515T213000
END:VEVENT
END:VCALENDAR
