BEGIN:VCALENDAR
PRODID:-//eluceo/ical//2.0/EN
VERSION:2.0
CALSCALE:GREGORIAN
BEGIN:VEVENT
UID:01656d507f6f47d63293cd9c010867c4
DTSTAMP:20260422T203343Z
SUMMARY:A New Awakening:  a talk  on the History of the Sephardic Jews of S
 pain
DESCRIPTION:Jewish Federation in the Heart of New Jersey\nEvents\nhttps://j
 ewishheartnj.org/events/a-new-awakening--a-talk--on-the-history-of-the-sep
 hardic-jews-of-spain-1680182845\n\nThe Jewish Heritage Museum of Monmouth 
 County is pleased to present A New Awakening: a talk by Sol Romano on the 
 History and Background of the Sephardic Jews of Spain through family herit
 age on Sunday\, April 16\, 2023 at 2:00 PM. Admission is $8 for Museum mem
 bers\, and $12 for non-members.\n\nUsing his family history of Turkish Sep
 hardic immigrants as an example\, Sol Romano aims to enlighten\, or awaken
 \, his audience to the story of Sephardic Jews with facts and stories abou
 t their origin\, life...
DTSTART;TZID=America/New_York:20230416T140000
DTEND;TZID=America/New_York:20230416T160000
END:VEVENT
END:VCALENDAR
