BEGIN:VCALENDAR
PRODID:-//eluceo/ical//2.0/EN
VERSION:2.0
CALSCALE:GREGORIAN
BEGIN:VEVENT
UID:d092dcf5539005ebb8f89a3cf0e406b5
DTSTAMP:20260422T220549Z
SUMMARY:A Conversation on Israel with Dena Dubofsky-Blum
DESCRIPTION:Jewish Federation in the Heart of New Jersey\nEvents\nhttps://j
 ewishheartnj.org/events/a-conversation-on-israel-with-dena-dubofsky-blum-1
 681324372\n\nAs part of MRT's week long celebration of Israel at 75\, we w
 elcome guest speaker Dena Dubofsky-Blum\, \nAssistant Director of American
  Jewish Committee - NJ (AJC - NJ) for a conversation on Israel. This progr
 am will only take place on Zoom.
DTSTART;TZID=America/New_York:20230501T193000
DTEND;TZID=America/New_York:20230501T203000
END:VEVENT
END:VCALENDAR
