BEGIN:VCALENDAR
PRODID:-//eluceo/ical//2.0/EN
VERSION:2.0
CALSCALE:GREGORIAN
BEGIN:VEVENT
UID:d73f9c3c284647edb1709fdb885d1191
DTSTAMP:20260419T171730Z
SUMMARY:A Benefit Concert for Israel
DESCRIPTION:Jewish Federation in the Heart of New Jersey\nEvents\nhttps://j
 ewishheartnj.org/events/a-benefit-concert-for-israel\n\nThis special conce
 rt\, for Jewish Federation&#39\;s Israel Emergency Fund providing humanita
 rian aid to victims of terror\, features pianist and composer Guy Mintus a
 nd vocalist and actress Naama Nachum.
DTSTART;TZID=America/New_York:20231029T193000
DTEND;TZID=America/New_York:20231029T213000
END:VEVENT
END:VCALENDAR
