BEGIN:VCALENDAR
PRODID:-//eluceo/ical//2.0/EN
VERSION:2.0
CALSCALE:GREGORIAN
BEGIN:VEVENT
UID:01329ebd3b5779e823a50939496f6936
DTSTAMP:20260423T053335Z
SUMMARY:Wearable Art: A Conversation about Jewelry
DESCRIPTION:Jewish Federation in the Heart of New Jersey\nEvents\nhttps://j
 ewishheartnj.org/events/Wearable-Art-A-Conversation-about-Jewelry\n\nThrou
 ghout history\, jewelry has been used to commemorate the most cherished mo
 ments in our lives – a family heirloom passed down from generation to ge
 neration\, an engagement ring\, or a child’s friendship bracelet. Join c
 urator Bella Neyman\, co-founder of New York City Jewelry Week\, for a con
 versation about groundbreaking jewelry\, from work by Pablo Picasso to the
  artistry of jewelers working today.\n\nAfter the presentation\, participa
 nts will be able to try on and purchase contemporary Is...
DTSTART;TZID=America/New_York:20230508T190000
DTEND;TZID=America/New_York:20230508T213000
END:VEVENT
END:VCALENDAR
