BEGIN:VCALENDAR
PRODID:-//eluceo/ical//2.0/EN
VERSION:2.0
CALSCALE:GREGORIAN
BEGIN:VEVENT
UID:93972314587c35e1a510edf85b3cb45b
DTSTAMP:20260421T132704Z
SUMMARY:6 Class Collaging Workshop at the JCC of Middlesex County
DESCRIPTION:Jewish Federation in the Heart of New Jersey\nEvents\nhttps://j
 ewishheartnj.org/events/6-class-collaging-workshop-at-the-jcc-of-middlesex
 -county-1693419910\n\nArt with Mickey Waring. 6-Class Collaging Workshop.\
 n\nThis series is designed specifically for beginners. Students will learn
  a different style of collage each week.\n\nWednesday Mornings from 9:45 A
 M - 11:45 AM\n\nOctober 25\, November 1\, November 8\, November 15\, Novem
 ber 22 & November 29\n\nLIMITED TO 8 PARTICIPANTS\n\n***ADULTS ONLY***\n\n
 $30 Members / $40 Guests (Sorry\, no refunds)
DTSTART;TZID=America/New_York:20231025T094500
DTEND;TZID=America/New_York:20231025T114500
END:VEVENT
END:VCALENDAR
