BEGIN:VCALENDAR
PRODID:-//eluceo/ical//2.0/EN
VERSION:2.0
CALSCALE:GREGORIAN
BEGIN:VEVENT
UID:4b432fe8c2336e58839acbcdfd84b9fc
DTSTAMP:20260421T113606Z
SUMMARY:4-Week Course: Your God is a Jester - Clown in Sacred Jewish Texts
DESCRIPTION:Jewish Federation in the Heart of New Jersey\nEvents\nhttps://j
 ewishheartnj.org/events/4-week-course-your-god-is-a-jester---clown-in-sacr
 ed-jewish-texts-1694107683\n\nIn this interactive online course\, we'll st
 udy Jewish texts through a clown lens\, analyzing stories of rabbis and fi
 gures exhibiting "fool" behavior. Clown exercises allow students to embody
  different fool archetypes and uncover God as a clown. No prior experience
  needed.
DTSTART;TZID=America/New_York:20231012T200000
DTEND;TZID=America/New_York:20231012T223000
END:VEVENT
END:VCALENDAR
