BEGIN:VCALENDAR
PRODID:-//eluceo/ical//2.0/EN
VERSION:2.0
CALSCALE:GREGORIAN
BEGIN:VEVENT
UID:03cb17bcc3954150d905849b9b06c6b7
DTSTAMP:20260426T040219Z
SUMMARY:23rd Annual Rutgers Jewish Film Festival
DESCRIPTION:Jewish Federation in the Heart of New Jersey\nEvents\nhttps://j
 ewishheartnj.org/events/23rd-annual-rutgers-jewish-film-festival-165902517
 0\n\nThe Rutgers Jewish Film Festival features award-winning international
  films and engaging discussions with filmmakers and special guests. For mo
 re than twenty years\, the festival has brought our diverse community toge
 ther for thought-provoking and entertaining cinema\, offering new perspect
 ives on Israeli society\, Jews around the world\, the Holocaust\, and Jewi
 sh identity. For information visit:  http://bildnerdenter.rutgers.edu
DTSTART;TZID=America/New_York:20221030T000000
DTEND;TZID=America/New_York:20221113T115900
END:VEVENT
END:VCALENDAR
