BEGIN:VCALENDAR
PRODID:-//eluceo/ical//2.0/EN
VERSION:2.0
CALSCALE:GREGORIAN
BEGIN:VEVENT
UID:813a916037f620ab8d1b8271ba614277
DTSTAMP:20260419T160558Z
SUMMARY:Super Sunday Spring Call-Out
DESCRIPTION:Jewish Federation in the Heart of New Jersey\nEvents\nhttps://j
 ewishheartnj.org/events/2024-spring-super-sunday-call-out-1705421610\n\nJe
 wish Federation in the Heart of NJ's Super Sunday Fall Call-Out Day is Nov
 . 3\, 2024. Reach out to community members and ask for their contributions
  to care for those who need help\, make way for a bright Jewish future\, f
 ight antisemitism\, keep places for Jewish gathering safe\, and support th
 e people of Israel.
DTSTART;TZID=America/New_York:20240310T083000
DTEND;TZID=America/New_York:20240310T193000
END:VEVENT
END:VCALENDAR
