BEGIN:VCALENDAR
PRODID:-//eluceo/ical//2.0/EN
VERSION:2.0
CALSCALE:GREGORIAN
BEGIN:VEVENT
UID:48a48fd463b54594ca90445d086bf97c
DTSTAMP:20260425T153356Z
SUMMARY:2023 J-SERVE
DESCRIPTION:Jewish Federation in the Heart of New Jersey\nEvents\nhttps://j
 ewishheartnj.org/events/2023-j-serve-1649792400\n\nJ-SERVE is the Internat
 ional Day of Jewish Youth Service. This is a community-wide mitzvah day wi
 th hands on volunteer opportunities for teens in 6th-12th grade. Teens reg
 ister for the event that meets their interest.  Put this link in your brow
 ser to find more information:  https://jewishheartnj.org/connect/connect-w
 ith-your-peers/teens\nIf you are interested in volunteering or in the Teen
  committee please e-mail Laura Safran at: lauras@jewishheartnj.org
DTSTART;TZID=America/New_York:20230326T100000
DTEND;TZID=America/New_York:20230326T150000
END:VEVENT
END:VCALENDAR
